BEGIN:VCALENDAR
VERSION:2.0
PRODID:-//Qui Paderno Dugnano - ECPv6.15.15//NONSGML v1.0//EN
CALSCALE:GREGORIAN
METHOD:PUBLISH
X-ORIGINAL-URL:https://quipadernodugnano.info
X-WR-CALDESC:Eventi per Qui Paderno Dugnano
REFRESH-INTERVAL;VALUE=DURATION:PT1H
X-Robots-Tag:noindex
X-PUBLISHED-TTL:PT1H
BEGIN:VTIMEZONE
TZID:Europe/Rome
BEGIN:DAYLIGHT
TZOFFSETFROM:+0100
TZOFFSETTO:+0200
TZNAME:CEST
DTSTART:20140330T010000
END:DAYLIGHT
BEGIN:STANDARD
TZOFFSETFROM:+0200
TZOFFSETTO:+0100
TZNAME:CET
DTSTART:20141026T010000
END:STANDARD
BEGIN:DAYLIGHT
TZOFFSETFROM:+0100
TZOFFSETTO:+0200
TZNAME:CEST
DTSTART:20150329T010000
END:DAYLIGHT
BEGIN:STANDARD
TZOFFSETFROM:+0200
TZOFFSETTO:+0100
TZNAME:CET
DTSTART:20151025T010000
END:STANDARD
BEGIN:DAYLIGHT
TZOFFSETFROM:+0100
TZOFFSETTO:+0200
TZNAME:CEST
DTSTART:20160327T010000
END:DAYLIGHT
BEGIN:STANDARD
TZOFFSETFROM:+0200
TZOFFSETTO:+0100
TZNAME:CET
DTSTART:20161030T010000
END:STANDARD
BEGIN:DAYLIGHT
TZOFFSETFROM:+0100
TZOFFSETTO:+0200
TZNAME:CEST
DTSTART:20170326T010000
END:DAYLIGHT
BEGIN:STANDARD
TZOFFSETFROM:+0200
TZOFFSETTO:+0100
TZNAME:CET
DTSTART:20171029T010000
END:STANDARD
BEGIN:DAYLIGHT
TZOFFSETFROM:+0100
TZOFFSETTO:+0200
TZNAME:CEST
DTSTART:20180325T010000
END:DAYLIGHT
BEGIN:STANDARD
TZOFFSETFROM:+0200
TZOFFSETTO:+0100
TZNAME:CET
DTSTART:20181028T010000
END:STANDARD
BEGIN:DAYLIGHT
TZOFFSETFROM:+0100
TZOFFSETTO:+0200
TZNAME:CEST
DTSTART:20190331T010000
END:DAYLIGHT
BEGIN:STANDARD
TZOFFSETFROM:+0200
TZOFFSETTO:+0100
TZNAME:CET
DTSTART:20191027T010000
END:STANDARD
BEGIN:DAYLIGHT
TZOFFSETFROM:+0100
TZOFFSETTO:+0200
TZNAME:CEST
DTSTART:20200329T010000
END:DAYLIGHT
BEGIN:STANDARD
TZOFFSETFROM:+0200
TZOFFSETTO:+0100
TZNAME:CET
DTSTART:20201025T010000
END:STANDARD
BEGIN:DAYLIGHT
TZOFFSETFROM:+0100
TZOFFSETTO:+0200
TZNAME:CEST
DTSTART:20210328T010000
END:DAYLIGHT
BEGIN:STANDARD
TZOFFSETFROM:+0200
TZOFFSETTO:+0100
TZNAME:CET
DTSTART:20211031T010000
END:STANDARD
BEGIN:DAYLIGHT
TZOFFSETFROM:+0100
TZOFFSETTO:+0200
TZNAME:CEST
DTSTART:20220327T010000
END:DAYLIGHT
BEGIN:STANDARD
TZOFFSETFROM:+0200
TZOFFSETTO:+0100
TZNAME:CET
DTSTART:20221030T010000
END:STANDARD
BEGIN:DAYLIGHT
TZOFFSETFROM:+0100
TZOFFSETTO:+0200
TZNAME:CEST
DTSTART:20230326T010000
END:DAYLIGHT
BEGIN:STANDARD
TZOFFSETFROM:+0200
TZOFFSETTO:+0100
TZNAME:CET
DTSTART:20231029T010000
END:STANDARD
BEGIN:DAYLIGHT
TZOFFSETFROM:+0100
TZOFFSETTO:+0200
TZNAME:CEST
DTSTART:20240331T010000
END:DAYLIGHT
BEGIN:STANDARD
TZOFFSETFROM:+0200
TZOFFSETTO:+0100
TZNAME:CET
DTSTART:20241027T010000
END:STANDARD
BEGIN:DAYLIGHT
TZOFFSETFROM:+0100
TZOFFSETTO:+0200
TZNAME:CEST
DTSTART:20250330T010000
END:DAYLIGHT
BEGIN:STANDARD
TZOFFSETFROM:+0200
TZOFFSETTO:+0100
TZNAME:CET
DTSTART:20251026T010000
END:STANDARD
BEGIN:DAYLIGHT
TZOFFSETFROM:+0100
TZOFFSETTO:+0200
TZNAME:CEST
DTSTART:20260329T010000
END:DAYLIGHT
BEGIN:STANDARD
TZOFFSETFROM:+0200
TZOFFSETTO:+0100
TZNAME:CET
DTSTART:20261025T010000
END:STANDARD
END:VTIMEZONE
BEGIN:VEVENT
DTSTART;TZID=Europe/Rome:20250624T080000
DTEND;TZID=Europe/Rome:20250715T170000
DTSTAMP:20260420T000533
CREATED:20250624T145948Z
LAST-MODIFIED:20250625T123737Z
UID:17487-1750752000-1752598800@quipadernodugnano.info
SUMMARY:Concorso fotografico PADERNORAMA
DESCRIPTION:Raccontare la città per immagini attraverso l’obiettivo della macchina fotografica che ne immortala emozioni e scorci quotidiani. È lo scopo della prima edizione del concorso fotografico Padernorama\, promosso dal Comune in collaborazione con l’associazione Officina Fotografica\, e rivolto a tutti i cittadini\, senza limiti di età o esperienza. \nOgni partecipante è invitato a offrire il proprio sguardo originale su Paderno Dugnano scegliendo tra tre categorie: il mio quartiere; il verde\, i parchi e i giardini della città; architettura e monumenti. Coloro che realizzeranno le fotografie più meritevoli saranno premiati con una tessera annuale 2025/2026 dell’associazione Officina Fotografica (del valore di 50 euro) oppure con un voucher per due ore di corso individuale di fotografia. \nGli interessati avranno tempo entro martedì 15 luglio 2025 per inviare il proprio contributo unitamente alla liberatoria firmata (scaricabile dal sito del Comune) all’indirizzo e-mail calderina@comune.paderno-dugnano.mi.it.  La fotografia dovrà essere nominata indicando cognome_nome_categoria e il titolo dell’opera. \nPer ulteriori informazioni e per scaricare il modulo di liberatoria\, è possibile consultare la pagina dedicata sul sito istituzionale del Comune di Paderno Dugnano: https://www.comune.paderno-dugnano.mi.it/novita/notizie/dettaglio-notizia/Concorso[1]fotografico-Padernorama \n 
URL:https://quipadernodugnano.info/event/concorso-fotografico-padernorama/
CATEGORIES:Concorso
END:VEVENT
BEGIN:VEVENT
DTSTART;TZID=Europe/Rome:20160519T210000
DTEND;TZID=Europe/Rome:20160519T210000
DTSTAMP:20260420T000533
CREATED:20160503T165739Z
LAST-MODIFIED:20221220T174905Z
UID:1781-1463691600-1463691600@quipadernodugnano.info
SUMMARY:Paderno  in corto 3
DESCRIPTION:
URL:https://quipadernodugnano.info/event/paderno-in-corto-3/
LOCATION:Cinema Metropolis\, via Oslavia\, Paderno Dugnano\, Italia
CATEGORIES:Concorso
END:VEVENT
BEGIN:VEVENT
DTSTART;TZID=Europe/Rome:20151121T140000
DTEND;TZID=Europe/Rome:20151122T173000
DTSTAMP:20260420T000533
CREATED:20151121T104920Z
LAST-MODIFIED:20221220T174922Z
UID:572-1448114400-1448213400@quipadernodugnano.info
SUMMARY:Varedo Model Show 2015
DESCRIPTION:21° Mostra Concorso di modellismo statico \nsabato dalle 14.00 alle 19.00\ndomenica dalle 9.00 alle 17.30 \nPremiazione domenica alle 16.00 \n 
URL:https://quipadernodugnano.info/event/varedo-model-show-2015/
LOCATION:Villa Bagatti Valsecchi\, via Vittorio Emanuele II\, Varedo\, Italia
CATEGORIES:Concorso,Mostra
END:VEVENT
END:VCALENDAR