BEGIN:VCALENDAR
VERSION:2.0
PRODID:-//Qui Paderno Dugnano - ECPv6.15.15//NONSGML v1.0//EN
CALSCALE:GREGORIAN
METHOD:PUBLISH
X-WR-CALNAME:Qui Paderno Dugnano
X-ORIGINAL-URL:https://quipadernodugnano.info
X-WR-CALDESC:Eventi per Qui Paderno Dugnano
REFRESH-INTERVAL;VALUE=DURATION:PT1H
X-Robots-Tag:noindex
X-PUBLISHED-TTL:PT1H
BEGIN:VTIMEZONE
TZID:Europe/Rome
BEGIN:DAYLIGHT
TZOFFSETFROM:+0100
TZOFFSETTO:+0200
TZNAME:CEST
DTSTART:20240331T010000
END:DAYLIGHT
BEGIN:STANDARD
TZOFFSETFROM:+0200
TZOFFSETTO:+0100
TZNAME:CET
DTSTART:20241027T010000
END:STANDARD
BEGIN:DAYLIGHT
TZOFFSETFROM:+0100
TZOFFSETTO:+0200
TZNAME:CEST
DTSTART:20250330T010000
END:DAYLIGHT
BEGIN:STANDARD
TZOFFSETFROM:+0200
TZOFFSETTO:+0100
TZNAME:CET
DTSTART:20251026T010000
END:STANDARD
BEGIN:DAYLIGHT
TZOFFSETFROM:+0100
TZOFFSETTO:+0200
TZNAME:CEST
DTSTART:20260329T010000
END:DAYLIGHT
BEGIN:STANDARD
TZOFFSETFROM:+0200
TZOFFSETTO:+0100
TZNAME:CET
DTSTART:20261025T010000
END:STANDARD
END:VTIMEZONE
BEGIN:VEVENT
DTSTART;TZID=Europe/Rome:20250511T080000
DTEND;TZID=Europe/Rome:20250526T170000
DTSTAMP:20260423T150545
CREATED:20250509T142422Z
LAST-MODIFIED:20250527T142933Z
UID:17334-1746950400-1748278800@quipadernodugnano.info
SUMMARY:ANPI informa
DESCRIPTION:Carissimi\,\ndi seguito pro-memoria con gli aggiornamenti e gli appuntamenti a cui auspichiamo ci sia la massima partecipazione:\n\n– giovedì 8/5/2025 h. 18\,00  Via Rotondi ang. Via XXV Aprile (interrato) inaugurazione mostra manifesti:  “dalla Cina Arte e propaganda” (vedi locandina allegata) organizzata dalla Raccolta Risso e Restare Umani\, a cui ANPI ha aderito.\n\n– domenica 11/5/2025 dalle h. 11 alle h. 18 il nostro gazebo sarà presente alla Festa Benvenga Maggio al Parco Toti\, veniteci a trovare sarà una buona occasione per discutere di progetti e rinnovare la tessera per chi non l’avesse ancora fatta\n\n– venerdì 16/5/2025 assemblea pubblica Auditorium Tilane h. 20\,45 organizzata dal Coordinamento 5 Referendum Paderno Dugnano\, a cui ANPI ha aderito. E’ un’ottima occasione per le debite informazioni sui referendum del 8 e 9 giugno! (vedi locandina allegata)\n\n– sabato 17/5/2025 h. 15\,00 manifestazione a Milano in Piazza Duomo “uniti contro il remigration summit” – uniti insieme alle forze democratiche della società civile per contrapporci al preannunciato summit delle forze dell’estrema destra europea che hanno scelto Milano per la loro lugubre propaganda di odio (vedi locandina allegata)\n\n– sabato 24/5/2025 sera\, saremo presenti con nostro banchetto in Piazza della Resistenza all’interno di un momento di approfondimento organizzato dal PD di Paderno sui referendum dell’8 e 9 giugno\n\n\n– giovedì 29/5/2025 h. 20\,45 presso il Circolo ARCI Amicizia e Solidarietà in Via Coti Zelati 51 (entrata da Via per la Stazione) presentazione libro e dialogo con l’autore “La Basilicata verso l’ Unità d’Italia” di Giuseppe Natale- \nIl saggio ci aiuta a riflettere sui diritti violati\, sulla dignità del lavoro e sul diritto di cittadinanza (temi attuali referendari)\, perché conoscere il passato è la prospettiva per modificare il presente e costruire un futuro migliore per l’umanità intera\, per la pace\, per il disarmo e per la salvezza dell’ambiente).\n– lunedì 2/6/2025 celebrazione istituzionale ( a breve di dettagli ed il manifesto)\n\n\n\n– stiamo organizzando il consueto annuale “sentiero delle memoria” – itinerario fuori porta sui luoghi significativi della Resistenza e della Liberazione che avverrà sabato  6 settembre a Dongo (spostato luogo e data causa referendum)\, vi terremo informati sugli sviluppi\n\n– proseguono nel mese di maggio gli incontri educativi nei plessi scolastici e/o giri itineranti della nostra Città con “La Storia siamo noi”\n\n\n– ricordiamo la “campagna per il 5X1000 all’ANPI ” \nDestinare il 5 per mille della dichiarazione dei redditi all’Associazione Nazionale Partigiani d’Italia è semplice:\nNel quadro Scelta per la destinazione del cinque per mille dell’Irpef dei modelli CU\, 730 e Unico/PF apponi la tua firma solo nel primo dei sette spazi previsti\, quello con la dicitura “Sostegno degli Enti del Terzo Settore iscritti nel Runts“ – Sotto la firma inserisci il Codice Fiscale dell’ANPI 00776550584\n\n– Vi ricordiamo il link a cui far riferimento per il progetto storico culturale QRcode in itinere\, a breve verranno affissi ai luoghi preposti le rispettive targhe con riferimento alle relative schede informative che si collegano al nostro blog https://anpipadernodugnano.blogspot.com/?m=1\n\n\n\n\n\n\n– è in itinere il progetto “Teatro della memoria” che è atto a mettere in scena il nostro libro “la paura e il coraggio”\, vi terremo informati sugli sviluppi – sono previsti incontri  scadenzati nel periodo scolastico sino ad aprile 2026 in cui è previsto il “debutto”\n\n\n\nNei limiti delle disponibilità garantiamo sempre la presenza presso la nostra sede dalle h.9/9.30 alle h. 10.30/11.00 di tutte le domeniche – se non hai ancora rinnovato la tessera puoi anche richiederla tramite IBAN ANPI: IT87R0335901600100000121462 – BANCA PROSSIMA – \nINTESTATO A ANPI PADERNO DUGNANO (poi ti spediamo la tessera)\n\n\n\nTenervi aggiornati sulla nostra pagina facebook!!!!\n\nFraterni saluti \n\n\n\n\nANPI PADERNO DUGNANO\nRita Magnani
URL:https://quipadernodugnano.info/event/anpi-informa-25/
CATEGORIES:Evento
END:VEVENT
END:VCALENDAR