BEGIN:VCALENDAR
VERSION:2.0
PRODID:-//Qui Paderno Dugnano - ECPv6.15.15//NONSGML v1.0//EN
CALSCALE:GREGORIAN
METHOD:PUBLISH
X-WR-CALNAME:Qui Paderno Dugnano
X-ORIGINAL-URL:https://quipadernodugnano.info
X-WR-CALDESC:Eventi per Qui Paderno Dugnano
REFRESH-INTERVAL;VALUE=DURATION:PT1H
X-Robots-Tag:noindex
X-PUBLISHED-TTL:PT1H
BEGIN:VTIMEZONE
TZID:Europe/Rome
BEGIN:DAYLIGHT
TZOFFSETFROM:+0100
TZOFFSETTO:+0200
TZNAME:CEST
DTSTART:20240331T010000
END:DAYLIGHT
BEGIN:STANDARD
TZOFFSETFROM:+0200
TZOFFSETTO:+0100
TZNAME:CET
DTSTART:20241027T010000
END:STANDARD
BEGIN:DAYLIGHT
TZOFFSETFROM:+0100
TZOFFSETTO:+0200
TZNAME:CEST
DTSTART:20250330T010000
END:DAYLIGHT
BEGIN:STANDARD
TZOFFSETFROM:+0200
TZOFFSETTO:+0100
TZNAME:CET
DTSTART:20251026T010000
END:STANDARD
BEGIN:DAYLIGHT
TZOFFSETFROM:+0100
TZOFFSETTO:+0200
TZNAME:CEST
DTSTART:20260329T010000
END:DAYLIGHT
BEGIN:STANDARD
TZOFFSETFROM:+0200
TZOFFSETTO:+0100
TZNAME:CET
DTSTART:20261025T010000
END:STANDARD
END:VTIMEZONE
BEGIN:VEVENT
DTSTART;TZID=Europe/Rome:20250604T080000
DTEND;TZID=Europe/Rome:20250608T170000
DTSTAMP:20260424T080018
CREATED:20250530T124247Z
LAST-MODIFIED:20250530T124247Z
UID:17391-1749024000-1749402000@quipadernodugnano.info
SUMMARY:Cesano Maderno : Festa della Sinistra
DESCRIPTION:
URL:https://quipadernodugnano.info/event/cesano-maderno-festa-della-sinistra-2/
CATEGORIES:Evento
END:VEVENT
BEGIN:VEVENT
DTSTART;TZID=Europe/Rome:20250602T100000
DTEND;TZID=Europe/Rome:20250602T170000
DTSTAMP:20260424T080018
CREATED:20250527T142240Z
LAST-MODIFIED:20250527T142756Z
UID:17370-1748858400-1748883600@quipadernodugnano.info
SUMMARY:2 Giugno 2025
DESCRIPTION:
URL:https://quipadernodugnano.info/event/2-giugno-2025/
CATEGORIES:Evento
END:VEVENT
BEGIN:VEVENT
DTSTART;TZID=Europe/Rome:20250528T183000
DTEND;TZID=Europe/Rome:20250528T193000
DTSTAMP:20260424T080018
CREATED:20250527T142512Z
LAST-MODIFIED:20250527T142512Z
UID:17374-1748457000-1748460600@quipadernodugnano.info
SUMMARY:Commissione Territorio
DESCRIPTION:Per mercoledì 28 maggio alle ore 18.30 è convocata in seduta pubblica la Commissione Territorio che si terrà presso la Sala Giunta (ingresso da piazza della Resistenza). \nOrdine del giorno: \n\nServizi pubblici locali di interesse economico – Approvazione relazione illustrativa (ex D.Lgs. 23 dicembre 2022 n. 201\, art. 14 comma 3) per l’appalto dei servizi di igiene urbana del territorio.
URL:https://quipadernodugnano.info/event/commissione-territorio-22/
LOCATION:Aula Giunta\, via A.Grandi\,15\, Paderno Dugnano\, Italia
CATEGORIES:Consiglio Comunale
END:VEVENT
BEGIN:VEVENT
DTSTART;TZID=Europe/Rome:20250516T203000
DTEND;TZID=Europe/Rome:20250516T233000
DTSTAMP:20260424T080018
CREATED:20250427T155102Z
LAST-MODIFIED:20250427T155102Z
UID:17304-1747427400-1747438200@quipadernodugnano.info
SUMMARY:SI al Referendum
DESCRIPTION:
URL:https://quipadernodugnano.info/event/si-al-referendum/
LOCATION:Auditorium Tilane\, piazza Della Divina Commedia\, Paderno Dugnano\, Italia
CATEGORIES:Evento
END:VEVENT
BEGIN:VEVENT
DTSTART;TZID=Europe/Rome:20250514T210000
DTEND;TZID=Europe/Rome:20250514T233000
DTSTAMP:20260424T080018
CREATED:20250509T142627Z
LAST-MODIFIED:20250509T142627Z
UID:17337-1747256400-1747265400@quipadernodugnano.info
SUMMARY:La via francigena
DESCRIPTION:
URL:https://quipadernodugnano.info/event/la-via-francigena-2/
LOCATION:Centro Anziani\, via Armstrong\, Paderno Dugnano\, Milano\, Italia
CATEGORIES:Evento
END:VEVENT
BEGIN:VEVENT
DTSTART;TZID=Europe/Rome:20250511T080000
DTEND;TZID=Europe/Rome:20250526T170000
DTSTAMP:20260424T080018
CREATED:20250509T142422Z
LAST-MODIFIED:20250527T142933Z
UID:17334-1746950400-1748278800@quipadernodugnano.info
SUMMARY:ANPI informa
DESCRIPTION:Carissimi\,\ndi seguito pro-memoria con gli aggiornamenti e gli appuntamenti a cui auspichiamo ci sia la massima partecipazione:\n\n– giovedì 8/5/2025 h. 18\,00  Via Rotondi ang. Via XXV Aprile (interrato) inaugurazione mostra manifesti:  “dalla Cina Arte e propaganda” (vedi locandina allegata) organizzata dalla Raccolta Risso e Restare Umani\, a cui ANPI ha aderito.\n\n– domenica 11/5/2025 dalle h. 11 alle h. 18 il nostro gazebo sarà presente alla Festa Benvenga Maggio al Parco Toti\, veniteci a trovare sarà una buona occasione per discutere di progetti e rinnovare la tessera per chi non l’avesse ancora fatta\n\n– venerdì 16/5/2025 assemblea pubblica Auditorium Tilane h. 20\,45 organizzata dal Coordinamento 5 Referendum Paderno Dugnano\, a cui ANPI ha aderito. E’ un’ottima occasione per le debite informazioni sui referendum del 8 e 9 giugno! (vedi locandina allegata)\n\n– sabato 17/5/2025 h. 15\,00 manifestazione a Milano in Piazza Duomo “uniti contro il remigration summit” – uniti insieme alle forze democratiche della società civile per contrapporci al preannunciato summit delle forze dell’estrema destra europea che hanno scelto Milano per la loro lugubre propaganda di odio (vedi locandina allegata)\n\n– sabato 24/5/2025 sera\, saremo presenti con nostro banchetto in Piazza della Resistenza all’interno di un momento di approfondimento organizzato dal PD di Paderno sui referendum dell’8 e 9 giugno\n\n\n– giovedì 29/5/2025 h. 20\,45 presso il Circolo ARCI Amicizia e Solidarietà in Via Coti Zelati 51 (entrata da Via per la Stazione) presentazione libro e dialogo con l’autore “La Basilicata verso l’ Unità d’Italia” di Giuseppe Natale- \nIl saggio ci aiuta a riflettere sui diritti violati\, sulla dignità del lavoro e sul diritto di cittadinanza (temi attuali referendari)\, perché conoscere il passato è la prospettiva per modificare il presente e costruire un futuro migliore per l’umanità intera\, per la pace\, per il disarmo e per la salvezza dell’ambiente).\n– lunedì 2/6/2025 celebrazione istituzionale ( a breve di dettagli ed il manifesto)\n\n\n\n– stiamo organizzando il consueto annuale “sentiero delle memoria” – itinerario fuori porta sui luoghi significativi della Resistenza e della Liberazione che avverrà sabato  6 settembre a Dongo (spostato luogo e data causa referendum)\, vi terremo informati sugli sviluppi\n\n– proseguono nel mese di maggio gli incontri educativi nei plessi scolastici e/o giri itineranti della nostra Città con “La Storia siamo noi”\n\n\n– ricordiamo la “campagna per il 5X1000 all’ANPI ” \nDestinare il 5 per mille della dichiarazione dei redditi all’Associazione Nazionale Partigiani d’Italia è semplice:\nNel quadro Scelta per la destinazione del cinque per mille dell’Irpef dei modelli CU\, 730 e Unico/PF apponi la tua firma solo nel primo dei sette spazi previsti\, quello con la dicitura “Sostegno degli Enti del Terzo Settore iscritti nel Runts“ – Sotto la firma inserisci il Codice Fiscale dell’ANPI 00776550584\n\n– Vi ricordiamo il link a cui far riferimento per il progetto storico culturale QRcode in itinere\, a breve verranno affissi ai luoghi preposti le rispettive targhe con riferimento alle relative schede informative che si collegano al nostro blog https://anpipadernodugnano.blogspot.com/?m=1\n\n\n\n\n\n\n– è in itinere il progetto “Teatro della memoria” che è atto a mettere in scena il nostro libro “la paura e il coraggio”\, vi terremo informati sugli sviluppi – sono previsti incontri  scadenzati nel periodo scolastico sino ad aprile 2026 in cui è previsto il “debutto”\n\n\n\nNei limiti delle disponibilità garantiamo sempre la presenza presso la nostra sede dalle h.9/9.30 alle h. 10.30/11.00 di tutte le domeniche – se non hai ancora rinnovato la tessera puoi anche richiederla tramite IBAN ANPI: IT87R0335901600100000121462 – BANCA PROSSIMA – \nINTESTATO A ANPI PADERNO DUGNANO (poi ti spediamo la tessera)\n\n\n\nTenervi aggiornati sulla nostra pagina facebook!!!!\n\nFraterni saluti \n\n\n\n\nANPI PADERNO DUGNANO\nRita Magnani
URL:https://quipadernodugnano.info/event/anpi-informa-25/
CATEGORIES:Evento
END:VEVENT
BEGIN:VEVENT
DTSTART;VALUE=DATE:20250510
DTEND;VALUE=DATE:20250511
DTSTAMP:20260424T080018
CREATED:20250122T235303Z
LAST-MODIFIED:20250405T015326Z
UID:16995-1746835200-1746921599@quipadernodugnano.info
SUMMARY:Design quotidiano
DESCRIPTION:
URL:https://quipadernodugnano.info/event/design-quotidiano/
LOCATION:Auditorium Tilane\, piazza della Divina Commedia\, Paderno Dugnano\, Italia
CATEGORIES:Evento
END:VEVENT
BEGIN:VEVENT
DTSTART;TZID=Europe/Rome:20250509T203000
DTEND;TZID=Europe/Rome:20250509T233000
DTSTAMP:20260424T080018
CREATED:20250416T121928Z
LAST-MODIFIED:20250416T121928Z
UID:17275-1746822600-1746833400@quipadernodugnano.info
SUMMARY:Europa. Fra tragedie belliche ed emergenza climatica
DESCRIPTION:
URL:https://quipadernodugnano.info/event/europa-fra-tragedie-belliche-ed-emergenza-climatica/
LOCATION:Auditorium Tilane\, piazza Della Divina Commedia\, Paderno Dugnano\, Italia
CATEGORIES:Convegno
END:VEVENT
BEGIN:VEVENT
DTSTART;TZID=Europe/Rome:20250508T180000
DTEND;TZID=Europe/Rome:20250515T170000
DTSTAMP:20260424T080018
CREATED:20250428T162205Z
LAST-MODIFIED:20250428T162205Z
UID:17307-1746727200-1747328400@quipadernodugnano.info
SUMMARY:Mostra di manifesti: Dalla Cina arte  e propaganda
DESCRIPTION:
URL:https://quipadernodugnano.info/event/mostra-di-manifesti-dalla-cina-arte-e-propaganda/
END:VEVENT
BEGIN:VEVENT
DTSTART;TZID=Europe/Rome:20250430T080000
DTEND;TZID=Europe/Rome:20250504T170000
DTSTAMP:20260424T080018
CREATED:20250411T092841Z
LAST-MODIFIED:20250411T124107Z
UID:17258-1746000000-1746378000@quipadernodugnano.info
SUMMARY:Open Lake Fest
DESCRIPTION:  \nIL PROGRAMMA \n\nMercoledì 30 aprile\, ore 21 – 24\nOmaggio a Lucio Battisti con Fabrizio Pollio e Giuseppe Magnelli.\nGiovedì 1 maggio\ndalle ore 17: esibizioni di band locali selezionate tramite il Contest di Tilane4Youth\ndalle ore 21 alle 24: concerto di Giorgio Canali & Rossofuoco\nVenerdì 2 maggio\, ore 21 – 01\nSerata 80s Party con I Parrucconi Party Band Revival e DJ set anni ’80.\nSabato 3 maggio\, ore 21 – 01\nTorna “Amo gli anni ’90: La Festa” – il grande party con i successi della generazione anni ’90.\nDomenica 4 maggio\, ore 11 – 19\n“Un cielo pieno di bolle Day”: una domenica magica per bambini e famiglie\, con giochi\, spettacoli e attività creative.
URL:https://quipadernodugnano.info/event/open-lake-fest/
LOCATION:Parco Lago Nord\, Paderno Dugnano\, Italia
CATEGORIES:Evento,Pranzo/Cena
END:VEVENT
BEGIN:VEVENT
DTSTART;TZID=Europe/Rome:20250428T200000
DTEND;TZID=Europe/Rome:20250429T233000
DTSTAMP:20260424T080018
CREATED:20250417T131639Z
LAST-MODIFIED:20250417T131639Z
UID:17281-1745870400-1745969400@quipadernodugnano.info
SUMMARY:Consiglio comunale
DESCRIPTION:
URL:https://quipadernodugnano.info/event/consiglio-comunale-51/
LOCATION:Aula consiliare\, via Grandi\, Paderno Dugnano\, Italia
CATEGORIES:Consiglio Comunale
END:VEVENT
BEGIN:VEVENT
DTSTART;TZID=Europe/Rome:20250416T080000
DTEND;TZID=Europe/Rome:20250426T170000
DTSTAMP:20260424T080018
CREATED:20250325T223151Z
LAST-MODIFIED:20250416T122123Z
UID:17210-1744790400-1745686800@quipadernodugnano.info
SUMMARY:ANPI informa
DESCRIPTION:Carissimi\,\nnell’approssimarsi degli eventi per celebrare l’80mo anniversario della Liberazione\, di seguito pro-memoria con gli aggiornamenti e gli appuntamenti a cui auspichiamo ci sia la massima partecipazione:\n\n– sabato 29 marzo dalle h. 13 alle h. 19 evento a Milano “un tram chiamato Liberazione” (vedi locandina allegata)\n\n– domenica 6 aprile dalle h. 9 alle h. 18 saremo presenti alla 44ma edizione della Fiera di Primavera in Via Roma 68 (spazio antistante la Camera del Lavoro)\, dove distribuiremo le infomazioni su tutti gli eventi in programma e dove potrete rinnovare la tessera associativa 2025 (vedi volantino allegato) h. 11 aperitivo offerto dalla nostra Associazione\, veniteci a trovare!\n\n– domenica 13 aprile dalle h. 15 con partenza dal Parco della Pace “pedalata resistente” che terminerà h. 17.30 in Via Manzoni a Cusano Milanino presso il cippo dei partigiani  (iniziativa in collaborazione con Lega Ambiente – Cicloofficina del contromano bike – La Meridiana – Circolo ARCI di Palazzolo e le ANPI di Bresso-Cinisello-Cormano e Cusano. (vedi volantino allegato) – con il patrocinio del Comune di Paderno\n\n– lunedì 14 aprile h. 10 Milano celebrazione al Campo della Gloria (Cimitero Maggiore)\n\n–mercoledì 16 aprile h. 21 presso la Cineteca Milano Metropolis Via Olavia 8 Paderno\, Concerto dei BARABAN  “Venti5 d’Aprile” – canzoni e musiche di rara bellezza\, testimonianze che raccontano in musica dall’8 settembre alla Liberazione (vedi volantino allegato) – con il patrocinio del Comune di Paderno\n\n– settimana dal 14 aprile al 18 aprile verranno poste su tutti i luoghi significativi di Paderno le targhe in ricordo dei nostri partigiani ed antifascisti (vedi targa 25 aprile)\n\n– venerdì 25 aprile dalle h. 9 Piazza della Resistenza Paderno celebrazione istituzionale della Liberazione (manifesto istituzionale in elaborazione e vi verranno comunicati i dettagli)\n\n– venerdì 25 aprile dalle h. 14 Milano manifestazione nazionale (verranno comunicati i dettagli)\n\n\n– stiamo organizzando il consueto annuale “sentiero delle memoria” – itinerario fuori porta sui luoghi significativi della Resistenza e della Liberazione che presumibilmente avverrà in giugno\, vi terremo informati sugli sviluppi\n\n\n– campagna per il 5X1000 all’ANPI – \nDestinare il 5 per mille della dichiarazione dei redditi all’Associazione Nazionale Partigiani d’Italia è semplice:\nNel quadro Scelta per la destinazione del cinque per mille dell’Irpef dei modelli CU\, 730 e Unico/PF apponi la tua firma solo nel primo dei sette spazi previsti\, quello con la dicitura “Sostegno degli Enti del Terzo Settore iscritti nel Runts“ – Sotto la firma inserisci il Codice Fiscale dell’ANPI 00776550584\n\n– campagna di adesione “vota luogo del cuore FAI – Parco Borghetto di Palazzolo (vedi allegato) organizzata dalla Ass.ne Restare Umani\, a cui ANPI ha aderito\, una buona occasione per valorizzare luoghi sul territorio salvaguardandone la peculiarità e l’importanza- si può votare sino a metà aprile –\n\n\n– Vi ricordiamo il link a cui far riferimento per il progetto storico culturale QRcode in itinere\, a breve verranno affissi ai luoghi preposti le rispettive targhe con riferimento alle relative schede informative che si collegano al nostro blog https://anpipadernodugnano.blogspot.com/?m=1\n\n\n\n\n\n– è in itinere il progetto “Teatro della memoria” che è atto a mettere in scena il nostro libro “la paura e il coraggio”\, vi terremo informati sugli sviluppi – sono previsti già da questo mese gli incontri sia per il teatro che per il progetto “la Storia siamo noi”\, per quest’ultimo gli incontri proseguiranno per tutto il mese di marzo e aprile\n\n\n\nNei limiti delle disponibilità garantiamo sempre la presenza presso la nostra sede dalle h.9/9.30 alle h. 10.30/11.00 di tutte le domeniche – se non hai ancora rinnovato la tessera puoi anche richiederla tramite IBAN ANPI: IT87R0335901600100000121462 – BANCA PROSSIMA – \nINTESTATO A ANPI PADERNO DUGNANO (poi ti spediamo la tessera)\n\n\n\nTenervi aggiornati sulla nostra pagina facebook\n\nFraterni saluti\n\n\n\n\nANPI PADERNO DUGNANO\nRita Magnani
URL:https://quipadernodugnano.info/event/anpi-informa-24/
CATEGORIES:Evento
END:VEVENT
BEGIN:VEVENT
DTSTART;TZID=Europe/Rome:20250414T210000
DTEND;TZID=Europe/Rome:20250414T233000
DTSTAMP:20260424T080018
CREATED:20250428T162345Z
LAST-MODIFIED:20250428T162345Z
UID:17311-1744664400-1744673400@quipadernodugnano.info
SUMMARY:La via francigena
DESCRIPTION:
URL:https://quipadernodugnano.info/event/la-via-francigena/
LOCATION:Centro Anziani\, Via.C.Riboldi\, Paderno Dugnano \, Italia
CATEGORIES:Evento
END:VEVENT
BEGIN:VEVENT
DTSTART;TZID=Europe/Rome:20250414T183000
DTEND;TZID=Europe/Rome:20250414T193000
DTSTAMP:20260424T080018
CREATED:20250414T080915Z
LAST-MODIFIED:20250414T080915Z
UID:17269-1744655400-1744659000@quipadernodugnano.info
SUMMARY:Commissione Economia
DESCRIPTION:Per lunedì 14 aprile 2025  alle ore 18.45 è convocata in seduta pubblica la Commissione Economia e Affari Generali che si terrà presso la Sala Giunta (ingresso da piazza della Resistenza). \nOrdine del giorno: \n\nApprovazione verbale della seduta del 10 febbraio 2025;\nEsame ed approvazione del Rendiconto della gestione per l’esercizio finanziario anno 2024;\nVariazione al  Bilancio di Previsione 2025/2027 e aggiornamento del Documento Unico di Programmazione sezione operativa;\nCollegio dei Revisori: adeguamento del compenso a seguito dell’applicazione del D.M. del 21 dicembre 2028.
URL:https://quipadernodugnano.info/event/commissione-economia-27/
LOCATION:Aula giunta\, via 25 aprile\,4\, Cinisello Balsamo\, Italia
CATEGORIES:Consiglio Comunale
END:VEVENT
BEGIN:VEVENT
DTSTART;TZID=Europe/Rome:20250413T090000
DTEND;TZID=Europe/Rome:20250413T180000
DTSTAMP:20260424T080018
CREATED:20250401T160931Z
LAST-MODIFIED:20250401T160931Z
UID:17224-1744534800-1744567200@quipadernodugnano.info
SUMMARY:1^ edizione Fiera del retrò e antiquariato
DESCRIPTION:
URL:https://quipadernodugnano.info/event/1-edizione-fiera-del-retro-e-antiquariato/
CATEGORIES:Fiera
END:VEVENT
BEGIN:VEVENT
DTSTART;TZID=Europe/Rome:20250405T080000
DTEND;TZID=Europe/Rome:20250410T170000
DTSTAMP:20260424T080018
CREATED:20250315T144421Z
LAST-MODIFIED:20250405T015433Z
UID:17162-1743840000-1744304400@quipadernodugnano.info
SUMMARY:FAI per il Parco Borghetto
DESCRIPTION:Continua la campagna per votare il Parco Borghetto come “luogo del cuore” FAI
URL:https://quipadernodugnano.info/event/fai-per-il-parco-borghetto/
CATEGORIES:Evento
END:VEVENT
BEGIN:VEVENT
DTSTART;TZID=Europe/Rome:20250405T080000
DTEND;TZID=Europe/Rome:20250407T170000
DTSTAMP:20260424T080018
CREATED:20250401T160738Z
LAST-MODIFIED:20250401T160738Z
UID:17221-1743840000-1744045200@quipadernodugnano.info
SUMMARY:Fiera di Primavera
DESCRIPTION:
URL:https://quipadernodugnano.info/event/fiera-di-primavera-5/
CATEGORIES:Fiera
END:VEVENT
BEGIN:VEVENT
DTSTART;TZID=Europe/Rome:20250405T080000
DTEND;TZID=Europe/Rome:20250406T170000
DTSTAMP:20260424T080018
CREATED:20250403T131513Z
LAST-MODIFIED:20250403T131513Z
UID:17231-1743840000-1743958800@quipadernodugnano.info
SUMMARY:Una "Famiglia" secolare
DESCRIPTION:
URL:https://quipadernodugnano.info/event/una-famiglia-secolare/
CATEGORIES:Mostra
END:VEVENT
BEGIN:VEVENT
DTSTART;TZID=Europe/Rome:20250331T180000
DTEND;TZID=Europe/Rome:20250331T200000
DTSTAMP:20260424T080018
CREATED:20250330T082437Z
LAST-MODIFIED:20250330T082719Z
UID:17216-1743444000-1743451200@quipadernodugnano.info
SUMMARY:Commissione Territorio
DESCRIPTION:Per lunedì 31 marzo 2025  alle ore 18.00 è convocata in seduta pubblica la Commissione Territorio che si terrà presso la Sala Giunta (ingresso da Piazza della Resistenza). \nOrdine del giorno: \n\nControdeduzioni alle osservazioni e approvazione definitiva del Piano di Governo del territorio (PGT) costituito dal nuovo Documento di Piano\, dalla Variante al Piano dei servizi ed al Piano delle Regole\, ai sensi e per gli effetti dell’art. 13 della L.R. 12/2005 e s.m.i.;\nApprovazione schema di convenzione per disciplinare l’attività estrattiva della societa’ E.G.E.S. SPA. –  ESTRAZIONE GHIAIA E SABBIA S.p.A. con insediamento produttivo in via Gorlich n. 2 di Paderno Dugnano (Milano) ai sensi della L.R. 20/2021 – periodo 2025-2035.
URL:https://quipadernodugnano.info/event/commissione-territorio-21/
CATEGORIES:Consiglio Comunale
END:VEVENT
BEGIN:VEVENT
DTSTART;TZID=Europe/Rome:20250328T210000
DTEND;TZID=Europe/Rome:20250328T210000
DTSTAMP:20260424T080018
CREATED:20250315T142509Z
LAST-MODIFIED:20250315T142509Z
UID:17153-1743195600-1743195600@quipadernodugnano.info
SUMMARY:Lavorare nel Nord Milano
DESCRIPTION:
URL:https://quipadernodugnano.info/event/lavorare-nel-nord-milano/
LOCATION:Biblioteca Tilane\, via della Divina commedia\, Paderno Dugnano\, Italia
CATEGORIES:Convegno
END:VEVENT
BEGIN:VEVENT
DTSTART;TZID=Europe/Rome:20250325T203000
DTEND;TZID=Europe/Rome:20250325T203000
DTSTAMP:20260424T080018
CREATED:20250106T165304Z
LAST-MODIFIED:20250324T215924Z
UID:16963-1742934600-1742934600@quipadernodugnano.info
SUMMARY:"Musica Maestro" dal 28 gennaio
DESCRIPTION:
URL:https://quipadernodugnano.info/event/musica-maestro-dal-28-gennaio/
LOCATION:Auditorium Tilane\, piazza Della Divina Commedia\, Paderno Dugnano\, Italia
CATEGORIES:Evento
END:VEVENT
BEGIN:VEVENT
DTSTART;VALUE=DATE:20250322
DTEND;VALUE=DATE:20250323
DTSTAMP:20260424T080018
CREATED:20250313T082525Z
LAST-MODIFIED:20250313T082525Z
UID:17147-1742601600-1742687999@quipadernodugnano.info
SUMMARY:Senago: cena con delitto
DESCRIPTION:
URL:https://quipadernodugnano.info/event/senago-cena-con-delitto/
LOCATION:Via
CATEGORIES:Evento
END:VEVENT
BEGIN:VEVENT
DTSTART;TZID=Europe/Rome:20250321T093000
DTEND;TZID=Europe/Rome:20250321T170000
DTSTAMP:20260424T080018
CREATED:20250318T132209Z
LAST-MODIFIED:20250318T132209Z
UID:17171-1742549400-1742576400@quipadernodugnano.info
SUMMARY:Milano-Limbiate: tre idee
DESCRIPTION:
URL:https://quipadernodugnano.info/event/milano-limbiate-tre-idee/
CATEGORIES:Convegno
END:VEVENT
BEGIN:VEVENT
DTSTART;TZID=Europe/Rome:20250319T210000
DTEND;TZID=Europe/Rome:20250319T210000
DTSTAMP:20260424T080018
CREATED:20250315T144737Z
LAST-MODIFIED:20250315T144737Z
UID:17168-1742418000-1742418000@quipadernodugnano.info
SUMMARY:Verità e giustizia per Attanasio
DESCRIPTION:
URL:https://quipadernodugnano.info/event/verita-e-giustizia-per-attanasio/
CATEGORIES:Evento
END:VEVENT
BEGIN:VEVENT
DTSTART;TZID=Europe/Rome:20250319T203000
DTEND;TZID=Europe/Rome:20250329T170000
DTSTAMP:20260424T080018
CREATED:20250224T104137Z
LAST-MODIFIED:20250315T142712Z
UID:17110-1742416200-1743267600@quipadernodugnano.info
SUMMARY:Insieme contro le mafie
DESCRIPTION:
URL:https://quipadernodugnano.info/event/insieme-contro-le-mafie-7/
CATEGORIES:Evento
END:VEVENT
BEGIN:VEVENT
DTSTART;TZID=Europe/Rome:20250317T180000
DTEND;TZID=Europe/Rome:20250318T200000
DTSTAMP:20260424T080018
CREATED:20250315T142341Z
LAST-MODIFIED:20250315T142341Z
UID:17151-1742234400-1742328000@quipadernodugnano.info
SUMMARY:Commissioni Territorio
DESCRIPTION:Per lunedì 17 e martedì 18 marzo 2025  alle ore 18.00 è convocata in seduta pubblica la Commissione Territorio che si terrà presso la Sala Giunta (ingresso da Piazza della Resistenza) \nOrdine del giorno: \n\nApprovazione verbale della seduta del 17/9/2024;\nIllustrazione dei pareri Enti e delle osservazioni pervenute sulla variante di PGT adottata con delibera C.C. n. 24 del 27/03/2024\, proposta di controdeduzioni.
URL:https://quipadernodugnano.info/event/commissioni-territorio/
LOCATION:Aula giunta\, via 25 aprile\,4\, Cinisello Balsamo\, Italia
CATEGORIES:Consiglio Comunale
END:VEVENT
BEGIN:VEVENT
DTSTART;TZID=Europe/Rome:20250315T210000
DTEND;TZID=Europe/Rome:20250315T210000
DTSTAMP:20260424T080018
CREATED:20250224T103755Z
LAST-MODIFIED:20250313T082641Z
UID:17104-1742072400-1742072400@quipadernodugnano.info
SUMMARY:Cusano Milanino: Serata Bob Dylan
DESCRIPTION:
URL:https://quipadernodugnano.info/event/serata-bob-dylan-3/
CATEGORIES:Evento
END:VEVENT
BEGIN:VEVENT
DTSTART;TZID=Europe/Rome:20250315T080000
DTEND;TZID=Europe/Rome:20250315T153000
DTSTAMP:20260424T080018
CREATED:20250115T090407Z
LAST-MODIFIED:20250315T145107Z
UID:16980-1742025600-1742052600@quipadernodugnano.info
SUMMARY:ANPI informa
DESCRIPTION:  \n  \n  \nCarissimi\, \ndi seguito pro-memoria con gli aggiornamenti e gli appuntamenti a cui auspichiamo ci sia la massima partecipazione: \n  \n– 24 febbraio 2025 h. 10\,30 commemorazione nel 80mo anniversario della morte di Eugenio Curiel presso la scuola a lui dedicata in Via Trieste 103 Paderno (vedi allegato) \n  \n– 8 marzo 2025 h. 18 presso il Circolo ARCI Palazzolo (vedi allegato) “L’importanza del ruolo delle donne nella Storia : Anna Kuliscioff” – ne parliamo con R. Biscardini e W. Galbusera – evento in collaborazione con il Circolo ARCI di Palazzolo e La Meridiana – segue aperitivo \n  \n– 9 marzo 2025 h. 12.30 pranzo presso il Circolo ARCI Palazzolo (vedi allegato) in collaborazione con ANPI Paderno e La Meridiana – canti del Coro Ingrato e mostra pannelli su Anna Kuliscioff \n  \n– 15 marzo 2025 h. 10 con partenza dalla Stazione di Palazzolo\, visita guidata alla mostra di Milano al Museo del Risorgimento\, sui 100 anni dalla morte di Anna Kuliscioff  (vedi allegato) \n  \n– sia l’8 che il 9 marzo sono giornate nazionali dedicate al tesseramento 2025 (vedi allegato)\, pertanto agli eventi programmati sarà possibile rinnovare o iscriversi all’ANPI \n  \n– campagna per il 5X1000 all’ANPI – \nDestinare il 5 per mille della dichiarazione dei redditi all’Associazione Nazionale Partigiani d’Italia è semplice: \nNel quadro Scelta per la destinazione del cinque per mille dell’Irpef dei modelli CU\, 730 e Unico/PF apponi la tua firma solo nel primo dei sette spazi previsti\, quello con la dicitura “Sostegno degli Enti del Terzo Settore iscritti nel Runts“ – Sotto la firma inserisci il Codice Fiscale dell’ANPI 00776550584 \n  \n– campagna di adesione “vota luogo del cuore FAI – Parco Borghetto di Palazzolo (vedi allegato) organizzata dalla Ass.ne Restare Umani\, a cui ANPI ha aderito\, una buona occasione per valorizzare luoghi sul territorio salvaguardandone la peculiarità e l’importanza- si può votare sino ai primi di aprile \n  \n– Vi ricordiamo il link a cui far riferimento per il progetto storico culturale QRcode in itinere\, a breve verranno affissi ai luoghi preposti le rispettive targhe con riferimento alle relative schede informative che si collegano al nostro blog https://anpipadernodugnano.blogspot.com/?m=1 \n  \n– stiamo organizzando in collaborazione con le Associazioni consuete\, i progetti per la celebrazione dell’80mo anniversario della Liberazione (25 aprile) vi terremo informati sugli sviluppi \n  \n– è in itinere il progetto “Teatro della memoria” che è atto a mettere in scena il nostro libro “la paura e il coraggio”\, vi terremo informati sugli sviluppi – sono previsti già da questo mese gli incontri sia per il teatro che per il progetto “la Storia siamo noi”\, per quest’ultimo gli incontri proseguiranno per tutto il mese di marzo e aprile \n  \nNei limiti delle disponibilità garantiamo sempre la presenza presso la nostra sede dalle h.9/9.30 alle h. 10.30/11.00 di tutte le domeniche – se non hai ancora rinnovato la tessera puoi anche richiederla tramite IBAN ANPI: IT87R0335901600100000121462 – BANCA PROSSIMA – \nINTESTATO A ANPI PADERNO DUGNANO (poi ti spediamo la tessera) \n  \nTenervi aggiornati sulla nostra pagina facebook!!!! \n  \nFraterni saluti \n  \nANPI PADERNO DUGNANO \nRita Magnani
URL:https://quipadernodugnano.info/event/anpi-informa-23/
CATEGORIES:Evento
END:VEVENT
BEGIN:VEVENT
DTSTART;TZID=Europe/Rome:20250312T210000
DTEND;TZID=Europe/Rome:20250312T210000
DTSTAMP:20260424T080018
CREATED:20250217T230819Z
LAST-MODIFIED:20250217T230819Z
UID:17097-1741813200-1741813200@quipadernodugnano.info
SUMMARY:Donne del vino 2025
DESCRIPTION:
URL:https://quipadernodugnano.info/event/donne-del-vino-2025/
CATEGORIES:Evento
END:VEVENT
BEGIN:VEVENT
DTSTART;TZID=Europe/Rome:20250301T103000
DTEND;TZID=Europe/Rome:20250301T170000
DTSTAMP:20260424T080018
CREATED:20250217T230623Z
LAST-MODIFIED:20250217T230623Z
UID:17094-1740825000-1740848400@quipadernodugnano.info
SUMMARY:Il Centenario della Coop.La Famiglia
DESCRIPTION:
URL:https://quipadernodugnano.info/event/il-centenario-della-coop-la-famiglia/
CATEGORIES:Evento
END:VEVENT
END:VCALENDAR