BEGIN:VCALENDAR
VERSION:2.0
PRODID:-//Qui Paderno Dugnano - ECPv6.15.15//NONSGML v1.0//EN
CALSCALE:GREGORIAN
METHOD:PUBLISH
X-WR-CALNAME:Qui Paderno Dugnano
X-ORIGINAL-URL:https://quipadernodugnano.info
X-WR-CALDESC:Eventi per Qui Paderno Dugnano
REFRESH-INTERVAL;VALUE=DURATION:PT1H
X-Robots-Tag:noindex
X-PUBLISHED-TTL:PT1H
BEGIN:VTIMEZONE
TZID:Europe/Rome
BEGIN:DAYLIGHT
TZOFFSETFROM:+0100
TZOFFSETTO:+0200
TZNAME:CEST
DTSTART:20240331T010000
END:DAYLIGHT
BEGIN:STANDARD
TZOFFSETFROM:+0200
TZOFFSETTO:+0100
TZNAME:CET
DTSTART:20241027T010000
END:STANDARD
BEGIN:DAYLIGHT
TZOFFSETFROM:+0100
TZOFFSETTO:+0200
TZNAME:CEST
DTSTART:20250330T010000
END:DAYLIGHT
BEGIN:STANDARD
TZOFFSETFROM:+0200
TZOFFSETTO:+0100
TZNAME:CET
DTSTART:20251026T010000
END:STANDARD
BEGIN:DAYLIGHT
TZOFFSETFROM:+0100
TZOFFSETTO:+0200
TZNAME:CEST
DTSTART:20260329T010000
END:DAYLIGHT
BEGIN:STANDARD
TZOFFSETFROM:+0200
TZOFFSETTO:+0100
TZNAME:CET
DTSTART:20261025T010000
END:STANDARD
END:VTIMEZONE
BEGIN:VEVENT
DTSTART;TZID=Europe/Rome:20251029T180000
DTEND;TZID=Europe/Rome:20251029T180000
DTSTAMP:20260423T132316
CREATED:20251021T151714Z
LAST-MODIFIED:20251021T151920Z
UID:17688-1761760800-1761760800@quipadernodugnano.info
SUMMARY:Insieme contro le mafie
DESCRIPTION:
URL:https://quipadernodugnano.info/event/insieme-contro-le-mafie-9/
CATEGORIES:Evento
END:VEVENT
BEGIN:VEVENT
DTSTART;TZID=Europe/Rome:20251027T203000
DTEND;TZID=Europe/Rome:20251027T233000
DTSTAMP:20260423T132316
CREATED:20251024T121345Z
LAST-MODIFIED:20251024T121345Z
UID:17691-1761597000-1761607800@quipadernodugnano.info
SUMMARY:Consiglio comunale
DESCRIPTION:
URL:https://quipadernodugnano.info/event/consiglio-comunale-55/
LOCATION:Aula consiliare\, via Grandi\, Paderno Dugnano\, Italia
CATEGORIES:Consiglio Comunale
END:VEVENT
BEGIN:VEVENT
DTSTART;TZID=Europe/Rome:20251016T210000
DTEND;TZID=Europe/Rome:20251016T230000
DTSTAMP:20260423T132316
CREATED:20250928T080806Z
LAST-MODIFIED:20250928T080806Z
UID:17644-1760648400-1760655600@quipadernodugnano.info
SUMMARY:Ottobre rosso
DESCRIPTION:
URL:https://quipadernodugnano.info/event/ottobre-rosso-2/
CATEGORIES:Evento
END:VEVENT
BEGIN:VEVENT
DTSTART;TZID=Europe/Rome:20251012T180000
DTEND;TZID=Europe/Rome:20251012T200000
DTSTAMP:20260423T132316
CREATED:20251011T140014Z
LAST-MODIFIED:20251011T140014Z
UID:17672-1760292000-1760299200@quipadernodugnano.info
SUMMARY:Tessere reti
DESCRIPTION:
URL:https://quipadernodugnano.info/event/tessere-reti/
CATEGORIES:Evento
END:VEVENT
BEGIN:VEVENT
DTSTART;TZID=Europe/Rome:20251012T080000
DTEND;TZID=Europe/Rome:20251012T170000
DTSTAMP:20260423T132316
CREATED:20251011T135511Z
LAST-MODIFIED:20251011T135511Z
UID:17669-1760256000-1760288400@quipadernodugnano.info
SUMMARY:Fera de Dugnan
DESCRIPTION:
URL:https://quipadernodugnano.info/event/fera-de-dugnan-3/
CATEGORIES:Mostra
END:VEVENT
BEGIN:VEVENT
DTSTART;TZID=Europe/Rome:20251011T080000
DTEND;TZID=Europe/Rome:20251019T170000
DTSTAMP:20260423T132316
CREATED:20251011T135130Z
LAST-MODIFIED:20251011T140117Z
UID:17664-1760169600-1760893200@quipadernodugnano.info
SUMMARY:ANPI informa
DESCRIPTION:Carissimi\, \ndi seguito pro-memoria con gli aggiornamenti e gli appuntamenti a cui auspichiamo  la massima partecipazione: \n– nell’ambito della collaborazione con Fera de Dugnan\, segnaliamo i seguenti appuntamenti: \ngiovedì 9/10 h. 20.45 aula consiliare “Nicea: fede\, arte e scienza per le libertà” (conferenza) vedi volantino – sabato 11/10 h. 17.30 auditorium tilane “Consumatori con la testa” (conferenza) vedi volantino – sabato 11/10 h. 20.45 Chiesa s. Nazaro e Celso “La voce” (concerto) vedi volantino – mercoledì 15/10 h. 20.45 Cinema Metropolis “I 40 grazie…..(spettacolo) vedi volantino \n– giovedì 9 ottobre h. 18.30 inaugurazione mostra manifesti “la contestazione sui muri” vedi locandina allegata \n– venerdì 10 ottobre h. 20.45 presso auditorium Tilane\, presentazione del libro “Un’altra memoria” di e con Lorenzo Guadagnucci – guerre\, stragi\, muri e genocidi producono assuefazione (vedi locandina allegata) \n– domenica 12 ottobre dalle h. 9 alle h. 19 saremo presenti alla Fera de Dugnan Piazza Matteotti angolo Via Rotondi con una mostra “Sguardi di Liberazione”- L’iniziativa nasce con l’intento di promuovere la memoria\, la conoscenza e la consapevolezza di quanti hanno contribuito a dare all’Italia la Libertà – h. 11\,00 inaugurazione mostra con la presenza del Presidente Provinciale Primo Minelli – segue aperitivo (vedi locandina allegata)- potrete trovare anche il calendario “resistente” 2026 \n– domenica 12 ottobre MARCIA PER LA PACE PERUGIA  ASSISI : in un mondo devastato dall’individualismo\, dall’egoismo e dall’indifferenza che uccide e lascia uccidere\, mentre lo scontro di interessi alimenta spietate guerre di ogni genere\, mentre guerre sanguinose si accaniscono ferocemente contro bambini\, donne\, malati e anziani\, in un mondo intriso di violenza\, pieno di muri e confini\, mentre si accelera un’incontrollata corsa al riarmo\, di fronte ai segni sempre più marcati della “terza guerra mondiale”\, noi vogliamo reagire con “un nuovo sogno di fraternità e amicizia sociale”. (Noi di Paderno siamo impegnati ma con la testa e con il cuore marciamo……..) \n– domenica 19 ottobre dalle h. 11 alle h. 18 saremo presenti alla Eco Festa di IxC al parco Parco Toti \n  \n– Vi ricordiamo il link a cui far riferimento per il progetto storico culturale QRcode in itinere\, a breve verranno affissi ai luoghi preposti le rispettive targhe con riferimento alle relative schede informative che si collegano al nostro blog https://anpipadernodugnano.blogspot.com/?m=1 \n  \n– è in itinere il progetto “Teatro della memoria” che è atto a mettere in scena il nostro libro “la paura e il coraggio”\, vi terremo informati sugli sviluppi – sono previsti incontri  scadenzati nel periodo scolastico sino ad aprile 2026 (22/4 e 23/4 al Cinema Metropolis) in cui è previsto il “debutto” \n  \nNei limiti delle disponibilità garantiamo sempre la presenza presso la nostra sede dalle h.9/9.30 alle h. 10.30/11.00 di tutte le domeniche \n  \n– se non hai ancora rinnovato la tessera 2025 puoi anche richiederla tramite IBAN ANPI: IT87R0335901600100000121462 – BANCA PROSSIMA – \nINTESTATO A ANPI PADERNO DUGNANO (poi ti spediamo la tessera) \n  \nTenervi aggiornati sulla nostra pagina facebook!!!! \n  \nFraterni saluti ! \n  \nANPI PADERNO DUGNANO \nRita Magnani
URL:https://quipadernodugnano.info/event/anpi-informa-29/
CATEGORIES:Evento
END:VEVENT
BEGIN:VEVENT
DTSTART;TZID=Europe/Rome:20251009T183000
DTEND;TZID=Europe/Rome:20251016T170000
DTSTAMP:20260423T132316
CREATED:20250929T221030Z
LAST-MODIFIED:20250929T221030Z
UID:17647-1760034600-1760634000@quipadernodugnano.info
SUMMARY:La contestazione sui muri
DESCRIPTION:
URL:https://quipadernodugnano.info/event/la-contestazione-sui-muri/
CATEGORIES:Evento
END:VEVENT
BEGIN:VEVENT
DTSTART;TZID=Europe/Rome:20251008T100000
DTEND;TZID=Europe/Rome:20251008T170000
DTSTAMP:20260423T132316
CREATED:20250926T124131Z
LAST-MODIFIED:20250926T124131Z
UID:17634-1759917600-1759942800@quipadernodugnano.info
SUMMARY:Una comunità che cresce
DESCRIPTION:
URL:https://quipadernodugnano.info/event/una-comunita-che-cresce/
CATEGORIES:Convegno
END:VEVENT
BEGIN:VEVENT
DTSTART;TZID=Europe/Rome:20250928T080000
DTEND;TZID=Europe/Rome:20250928T170000
DTSTAMP:20260423T132316
CREATED:20250918T120050Z
LAST-MODIFIED:20250926T121009Z
UID:17600-1759046400-1759078800@quipadernodugnano.info
SUMMARY:Relax al Parco Borghetto
DESCRIPTION:
URL:https://quipadernodugnano.info/event/relax-al-parco-borghetto/
CATEGORIES:Evento
END:VEVENT
BEGIN:VEVENT
DTSTART;TZID=Europe/Rome:20250927T080000
DTEND;TZID=Europe/Rome:20250928T170000
DTSTAMP:20260423T132316
CREATED:20250901T084536Z
LAST-MODIFIED:20250927T135002Z
UID:17560-1758960000-1759078800@quipadernodugnano.info
SUMMARY:Festa di AVS a Cinisello Balsamo
DESCRIPTION:
URL:https://quipadernodugnano.info/event/festa-di-avs-a-cinisello-balsamo/
CATEGORIES:Evento
END:VEVENT
BEGIN:VEVENT
DTSTART;TZID=Europe/Rome:20250925T190000
DTEND;TZID=Europe/Rome:20250925T233000
DTSTAMP:20260423T132316
CREATED:20250924T123328Z
LAST-MODIFIED:20250924T123328Z
UID:17615-1758826800-1758843000@quipadernodugnano.info
SUMMARY:Consiglio comunale
DESCRIPTION:
URL:https://quipadernodugnano.info/event/consiglio-comunale-54/
LOCATION:Aula consiliare\, via Grandi\, Paderno Dugnano
CATEGORIES:Consiglio Comunale
END:VEVENT
BEGIN:VEVENT
DTSTART;TZID=Europe/Rome:20250925T080000
DTEND;TZID=Europe/Rome:20251025T170000
DTSTAMP:20260423T132316
CREATED:20250926T123743Z
LAST-MODIFIED:20250926T123743Z
UID:17631-1758787200-1761411600@quipadernodugnano.info
SUMMARY:Bando sostegno al reddito
DESCRIPTION:
URL:https://quipadernodugnano.info/event/bando-sostegno-al-reddito/
END:VEVENT
BEGIN:VEVENT
DTSTART;TZID=Europe/Rome:20250921T080000
DTEND;TZID=Europe/Rome:20250921T170000
DTSTAMP:20260423T132316
CREATED:20250918T115812Z
LAST-MODIFIED:20250918T115812Z
UID:17597-1758441600-1758474000@quipadernodugnano.info
SUMMARY:Mostra di Giovanni Moretti
DESCRIPTION:
URL:https://quipadernodugnano.info/event/mostra-di-giovanni-moretti/
CATEGORIES:Fiera
END:VEVENT
BEGIN:VEVENT
DTSTART;TZID=Europe/Rome:20250919T173000
DTEND;TZID=Europe/Rome:20250919T183000
DTSTAMP:20260423T132316
CREATED:20250909T134919Z
LAST-MODIFIED:20250909T134919Z
UID:17578-1758303000-1758306600@quipadernodugnano.info
SUMMARY:Poesie e musica per la Palestina
DESCRIPTION:
URL:https://quipadernodugnano.info/event/poesie-e-musica-per-la-palestina/
LOCATION:Camera del Lavoro di Paderno
CATEGORIES:Evento
END:VEVENT
BEGIN:VEVENT
DTSTART;TZID=Europe/Rome:20250916T193000
DTEND;TZID=Europe/Rome:20250916T213000
DTSTAMP:20260423T132316
CREATED:20250912T124052Z
LAST-MODIFIED:20250912T124207Z
UID:17590-1758051000-1758058200@quipadernodugnano.info
SUMMARY:Commissione Servizi
DESCRIPTION:16 settembre ore 19\,30 :”Piano per il diritto allo studio”
URL:https://quipadernodugnano.info/event/commissione-servizi-11/
END:VEVENT
BEGIN:VEVENT
DTSTART;TZID=Europe/Rome:20250916T183000
DTEND;TZID=Europe/Rome:20250916T193000
DTSTAMP:20260423T132316
CREATED:20250912T124006Z
LAST-MODIFIED:20250912T124246Z
UID:17588-1758047400-1758051000@quipadernodugnano.info
SUMMARY:Commissione Territorio
DESCRIPTION:16 settembre ore 18\,30: “Seveso River Park”
URL:https://quipadernodugnano.info/event/commissione-territorio-24/
END:VEVENT
BEGIN:VEVENT
DTSTART;TZID=Europe/Rome:20250915T183000
DTEND;TZID=Europe/Rome:20250915T193000
DTSTAMP:20260423T132316
CREATED:20250912T123840Z
LAST-MODIFIED:20250912T124342Z
UID:17586-1757961000-1757964600@quipadernodugnano.info
SUMMARY:Commissione Economia
DESCRIPTION:15 settembre ore 18\,45
URL:https://quipadernodugnano.info/event/commissione-economia-28/
END:VEVENT
BEGIN:VEVENT
DTSTART;TZID=Europe/Rome:20250907T203000
DTEND;TZID=Europe/Rome:20250907T233000
DTSTAMP:20260423T132316
CREATED:20250901T085819Z
LAST-MODIFIED:20250901T085819Z
UID:17563-1757277000-1757287800@quipadernodugnano.info
SUMMARY:I Fiori di Hiroshima
DESCRIPTION:
URL:https://quipadernodugnano.info/event/i-fiori-di-hiroshima/
CATEGORIES:Evento
END:VEVENT
BEGIN:VEVENT
DTSTART;TZID=Europe/Rome:20250907T150000
DTEND;TZID=Europe/Rome:20250907T180000
DTSTAMP:20260423T132316
CREATED:20250904T145401Z
LAST-MODIFIED:20250904T145401Z
UID:17576-1757257200-1757268000@quipadernodugnano.info
SUMMARY:Pilastrello\, pro-memoria
DESCRIPTION:Come già segnalato Vi qualche tempo fa è programmata l’apertura del Pilastrello nei giorni indicati in oggetto con le seguenti manifestazioni: \n\ndomenica  7 settembre: dalle ore 15 alle ore 18 e illustrazione ai visitatori del patrimonio culturale (storico ed artistico) dell’antico oratorio campestre;\ndomenica 5 ottobre: dalle ore 15 alle ore 18 e alle 16\,30 recita del S. Rosario; sarà esposta una foto di ciò che rimane della statua lignea dell’Immacolata della cattedrale di Urakami di Nagasaki completamente distrutta dal bombardamento del 9 agosto 1943; la preghiera sarà dedicata \, in particolare\, a tutte le vittime dei conflitti.\n\nVi aspettiamo numerosi! \nUn caldo saluto a tutti Voi.
URL:https://quipadernodugnano.info/event/pilastrello-pro-memoria/
LOCATION:Chiesetta del Pilastrello\, S.S. dei Giovi\, Paderno Dugnano\, Italia
CATEGORIES:Evento
END:VEVENT
BEGIN:VEVENT
DTSTART;TZID=Europe/Rome:20250903T080000
DTEND;TZID=Europe/Rome:20250906T170000
DTSTAMP:20260423T132316
CREATED:20250903T121800Z
LAST-MODIFIED:20250903T121800Z
UID:17566-1756886400-1757178000@quipadernodugnano.info
SUMMARY:Il 6 settembre con la Palestina
DESCRIPTION:
URL:https://quipadernodugnano.info/event/il-6-settembre-con-la-palestina/
CATEGORIES:Evento
END:VEVENT
BEGIN:VEVENT
DTSTART;TZID=Europe/Rome:20250725T193000
DTEND;TZID=Europe/Rome:20250725T220000
DTSTAMP:20260423T132316
CREATED:20250718T130850Z
LAST-MODIFIED:20250718T130850Z
UID:17540-1753471800-1753480800@quipadernodugnano.info
SUMMARY:Pastasciutta antifascista
DESCRIPTION:– venerdì 25 luglio dalle h. 19.30 presso il Circolo ARCI Amicizia e Solidarietà in Via Coti Zelati 51 (entrata da via per la Stazione)\, “pastasciutta antifascista” (vedi volantino allegato) (le iniziative della “pastasciutta antifascista\, sono  organizzate da ANPI-ARCI- MERIDIANA- RESTARE UMANI E SPI-CGIL)
URL:https://quipadernodugnano.info/event/pastasciutta-antifascista/
LOCATION:Centro Anziani\, via  C.Riboldi\, Paderno Dugnano\, Italia
CATEGORIES:Evento
END:VEVENT
BEGIN:VEVENT
DTSTART;TZID=Europe/Rome:20250719T183000
DTEND;TZID=Europe/Rome:20250719T223000
DTSTAMP:20260423T132316
CREATED:20250708T122641Z
LAST-MODIFIED:20250708T122641Z
UID:17520-1752949800-1752964200@quipadernodugnano.info
SUMMARY:Insieme contro le mafie
DESCRIPTION:
URL:https://quipadernodugnano.info/event/insieme-contro-le-mafie-8/
CATEGORIES:Evento
END:VEVENT
BEGIN:VEVENT
DTSTART;TZID=Europe/Rome:20250717T210000
DTEND;TZID=Europe/Rome:20250717T233000
DTSTAMP:20260423T132316
CREATED:20250711T091828Z
LAST-MODIFIED:20250711T091828Z
UID:17527-1752786000-1752795000@quipadernodugnano.info
SUMMARY:Consiglio comunale
DESCRIPTION:odg in via di definizione
URL:https://quipadernodugnano.info/event/consiglio-comunale-53/
LOCATION:Aula consiliare\, via Grandi\, Paderno Dugnano\, Italia
CATEGORIES:Consiglio Comunale
END:VEVENT
BEGIN:VEVENT
DTSTART;TZID=Europe/Rome:20250710T210000
DTEND;TZID=Europe/Rome:20250710T230000
DTSTAMP:20260423T132316
CREATED:20250616T213435Z
LAST-MODIFIED:20250616T213435Z
UID:17449-1752181200-1752188400@quipadernodugnano.info
SUMMARY:Calici d'estate  2025
DESCRIPTION:
URL:https://quipadernodugnano.info/event/calici-destate-2025/
LOCATION:Oratorio\, Via Mazzini\, Palazzolo Milanese\, Italia
CATEGORIES:Evento
END:VEVENT
BEGIN:VEVENT
DTSTART;TZID=Europe/Rome:20250710T183000
DTEND;TZID=Europe/Rome:20250710T200000
DTSTAMP:20260423T132316
CREATED:20250704T145415Z
LAST-MODIFIED:20250704T145415Z
UID:17512-1752172200-1752177600@quipadernodugnano.info
SUMMARY:Commisione Economia
DESCRIPTION:Odg: \n1.salvaguardia degli equilibri di bilancio \n2.stato di attuazione dei programmi \n3.Variazioni di assestamento \n4.Triennale dei Lavori Pubblici
URL:https://quipadernodugnano.info/event/commisione-economia-4/
LOCATION:Aula giunta\, via 25 aprile\,4\, Cinisello Balsamo\, Italia
CATEGORIES:Consiglio Comunale
END:VEVENT
BEGIN:VEVENT
DTSTART;TZID=Europe/Rome:20250706T080000
DTEND;TZID=Europe/Rome:20250810T170000
DTSTAMP:20260423T132316
CREATED:20250702T164735Z
LAST-MODIFIED:20250702T164735Z
UID:17504-1751788800-1754845200@quipadernodugnano.info
SUMMARY:ANPI informa
DESCRIPTION:  \nDi seguito  pro-memoria con gli aggiornamenti e gli appuntamenti a cui auspichiamo  la massima partecipazione: \n  \n– domenica 6 luglio h. 19\,00 presso il parco parrocchiale di Via Grandi 12\,serata  Rotondi che ricorda anche gli 80 anni della Liberazione organizzata dall’Ass.ne Fera de Dugnan\, associazione con cui collaboriamo da tempo (vedi locandina allegata) \n  \n– lunedì 14 luglio dalle h. 20.30 presso l’estate al Castello Sforzesco di Milano\, grande festa /concerto per l’80mo della Liberazione. I biglietti\, gratuiti\, si potranno riservare attraverso la piattaforma  Eventbrite:  https://www.eventbrite.it/e/biglietti-festa-anpi-1394747861399?aff=oddtdtcreator.  L’iniziativa sarà caratterizzata dalla presenza di artisti vari con il loro repertorio musicale e recitativo. Tema comune la ricorrenza dell’80esimo anniversario della Liberazione d’Italia e il ricordo della festa indetta dal Sindaco Antonio Greppi in occasione del 14 Luglio 1945 (Liberi di cantare e ballare). (vedi locandina allegata) \n  \n– mercoledì 23 luglio dalle h. 18 presso l’uscita della stazione di Palazzolo\, distribuzione di pacchi di pasta per ricordare la “pastasciutta antifascista” dei Fratelli Cervi (vedi volantino allegato) – la pasta ci viene  generosamente offerta da ASTRA BIO SRL (IRIS) \n  \n– giovedì 24 luglio dalle h. 18 presso l’uscita della stazione di Paderno\, distribuzione di pacchi di pasta per ricordare la “pastasciutta antifascista” dei Fratelli Cervi (vedi volantino allegato) la pasta ci viene generosamente offerta da ASTRA BIO SRL (IRIS) \n  \n– venerdì 25 luglio dalle h. 19.30 presso il Circolo ARCI Amicizia e Solidarietà in Via Coti Zelati 51 (entrata da via per la Stazione)\, “pastasciutta antifascista” (vedi volantino allegato) (le iniziative della “pastasciutta antifascista\, sono  organizzate da ANPI-ARCI- MERIDIANA- RESTARE UMANI E SPI-CGIL) \n  \n– domenica 27 luglio h. 10\,00 una delegazione di ANPI ricorderà il Comandante Visone (Giovanni Pesce) presso la via a lui dedicata (vicino alla Guardia di Finanza) (vedi volantino allegato) \n  \n– domenica 10 agosto MANFESTAZIONE PIAZZALE LORETO (Milano) generalmente il concentramento è alle h. 9.30 vi terremo informati sugli sviluppi \n  \n– sabato 6 se \nttembre  consueto annuale “sentiero delle memoria” – itinerario fuori porta sui luoghi significativi della Resistenza e della Liberazione che avverrà a Dongo – (vedi volantino allegato)- vi invitiamo a prenotarvi per tempo considerate le probabili ferie di agosto!  \nQuest’anno abbiamo scelto Dongo perchè  “TUTTO FINISCE LI'”. Ricordiamo l’importanza dell’iniziativa “sentieri della memoria” \,che coinvolge le ANPI del luogo e le relative Istituzioni. Questi progetti ci danno l’opportunità oltre conoscere ed approfondire l’argomento\, di relazionarci su progetti e fare rete. Queste iniziative oltre ad avere un costo notevole economico e di organizzazione\, diventano sempre più difficili da portare a compimento\, pertanto raccomandiamo di prenotarvi per tempo onde poter dare il numero di massima entro la fine di luglio. \n  \n– anche quest’anno il  progetto  presentato in Regione Lombardia dall’ IC Allende in collaborazione con ANPI ” Noi testimoni della paura e del coraggio durante la Resistenza a Paderno Dugnano: in viaggio a Fossoli e a Carpi” ha vinto un premio\, appena ci saranno sviluppi ve ne daremo informativa \n  \n– ricordiamo la “campagna per il 5X1000 all’ANPI ” \nDestinare il 5 per mille della dichiarazione dei redditi all’Associazione Nazionale Partigiani d’Italia è semplice: \nNel quadro Scelta per la destinazione del cinque per mille dell’Irpef dei modelli CU\, 730 e Unico/PF apponi la tua firma solo nel primo dei sette spazi previsti\, quello con la dicitura “Sostegno degli Enti del Terzo Settore iscritti nel Runts“ – Sotto la firma inserisci il Codice Fiscale dell’ANPI 00776550584 \n  \n– Vi ricordiamo il link a cui far riferimento per il progetto storico culturale QRcode in itinere\, a breve verranno affissi ai luoghi preposti le rispettive targhe con riferimento alle relative schede informative che si collegano al nostro blog https://anpipadernodugnano.blogspot.com/?m=1 \n  \n– è in itinere il progetto “Teatro della memoria” che è atto a mettere in scena il nostro libro “la paura e il coraggio”\, vi terremo informati sugli sviluppi – sono previsti incontri  scadenzati nel periodo scolastico sino ad aprile 2026 in cui è previsto il “debutto” \n  \nNei limiti delle disponibilità garantiamo sempre la presenza presso la nostra sede dalle h.9/9.30 alle h. 10.30/11.00 di tutte le domeniche\, nel mese di luglio e agosto potremmo non esserci ma siamo a disposizione tramite mail a cui siamo sempre collegati. \n  \n– se non hai ancora rinnovato la tessera puoi anche richiederla tramite IBAN ANPI: IT87R0335901600100000121462 – BANCA PROSSIMA – \nINTESTATO A ANPI PADERNO DUGNANO (poi ti spediamo la tessera) \n  \nTenervi aggiornati sulla nostra pagina facebook!!!! \n  \nFraterni saluti e Buone vacanze! \n  \nANPI PADERNO DUGNANO \nRita Magnani
URL:https://quipadernodugnano.info/event/anpi-informa-27/
CATEGORIES:Evento
END:VEVENT
BEGIN:VEVENT
DTSTART;TZID=Europe/Rome:20250630T180000
DTEND;TZID=Europe/Rome:20250630T203000
DTSTAMP:20260423T132316
CREATED:20250624T144758Z
LAST-MODIFIED:20250624T144758Z
UID:17481-1751306400-1751315400@quipadernodugnano.info
SUMMARY:"Real games" al Metropolis
DESCRIPTION:REAL GAMES \nLunedì 30 Giugno 2025\, 18:00 \nLo spettacolo di improvvisazione teatrale che nasce a contatto col pubblico. Con Andrea Gaetani\, Fabio Maccioni e Mari Rinaldi
URL:https://quipadernodugnano.info/event/real-games-al-metropolis/
LOCATION:Area Metropolis 2.0\, via Oslavia\, Paderno Dugnano\, Italia
CATEGORIES:Evento
END:VEVENT
BEGIN:VEVENT
DTSTART;TZID=Europe/Rome:20250624T080000
DTEND;TZID=Europe/Rome:20250715T170000
DTSTAMP:20260423T132316
CREATED:20250624T145948Z
LAST-MODIFIED:20250625T123737Z
UID:17487-1750752000-1752598800@quipadernodugnano.info
SUMMARY:Concorso fotografico PADERNORAMA
DESCRIPTION:Raccontare la città per immagini attraverso l’obiettivo della macchina fotografica che ne immortala emozioni e scorci quotidiani. È lo scopo della prima edizione del concorso fotografico Padernorama\, promosso dal Comune in collaborazione con l’associazione Officina Fotografica\, e rivolto a tutti i cittadini\, senza limiti di età o esperienza. \nOgni partecipante è invitato a offrire il proprio sguardo originale su Paderno Dugnano scegliendo tra tre categorie: il mio quartiere; il verde\, i parchi e i giardini della città; architettura e monumenti. Coloro che realizzeranno le fotografie più meritevoli saranno premiati con una tessera annuale 2025/2026 dell’associazione Officina Fotografica (del valore di 50 euro) oppure con un voucher per due ore di corso individuale di fotografia. \nGli interessati avranno tempo entro martedì 15 luglio 2025 per inviare il proprio contributo unitamente alla liberatoria firmata (scaricabile dal sito del Comune) all’indirizzo e-mail calderina@comune.paderno-dugnano.mi.it.  La fotografia dovrà essere nominata indicando cognome_nome_categoria e il titolo dell’opera. \nPer ulteriori informazioni e per scaricare il modulo di liberatoria\, è possibile consultare la pagina dedicata sul sito istituzionale del Comune di Paderno Dugnano: https://www.comune.paderno-dugnano.mi.it/novita/notizie/dettaglio-notizia/Concorso[1]fotografico-Padernorama \n 
URL:https://quipadernodugnano.info/event/concorso-fotografico-padernorama/
CATEGORIES:Concorso
END:VEVENT
BEGIN:VEVENT
DTSTART;TZID=Europe/Rome:20250622T140000
DTEND;TZID=Europe/Rome:20250622T190000
DTSTAMP:20260423T132316
CREATED:20250605T175554Z
LAST-MODIFIED:20250605T175554Z
UID:17415-1750600800-1750618800@quipadernodugnano.info
SUMMARY:Festa del Parco Borghetto
DESCRIPTION:
URL:https://quipadernodugnano.info/event/festa-del-parco-borghetto/
CATEGORIES:Evento
END:VEVENT
BEGIN:VEVENT
DTSTART;TZID=Europe/Rome:20250622T080000
DTEND;TZID=Europe/Rome:20250622T170000
DTSTAMP:20260423T132316
CREATED:20250605T180058Z
LAST-MODIFIED:20250613T141852Z
UID:17418-1750579200-1750611600@quipadernodugnano.info
SUMMARY:ANPI informa
DESCRIPTION:Carissimi\, \ndi seguito pro-memoria con gli aggiornamenti e gli appuntamenti a cui auspichiamo ci sia la massima partecipazione: \n  \n– 8/9 giugno referendum:  5 SI’ per cambiare l’Italia -vi rivolgiamo un accorato appello per andare a votare comunque la pensiate\, perchè il voto è la più importante forma democratica conquistata con la lotta di Liberazione poi con la nostra Costituzione \n  \n– domenica 8 giugno h. 11.15 presso il monumento dei Carabinieri (viale Repubblica 17/Palazzo Sanità) celebrazione istituzionale 211mo anniversario fondazione arma dei carabinieri \n  \n– martedì 10 giugno anniversario uccisione di Giacomo Matteotti\, alleghiamo il volantino  per non dimenticare! \n  \n– domenica 22 giugno h. 14.00 presso il Parco del Borghetto “Festa del Parco Borghetto” organizzata dall’Ass.ne Restare Umani\, allo scopo di comunicare la classifica ufficiale che il FAI comunicherà il 12 giugno congiuntamente al bando a cui si potrà partecipare per ottenere dei fondi per la manutenzione – per questa campagna FAI anche ANPI ha aderito e saremo presenti con nostro gazebo \n  \n– alleghiamo gli importanti impegni nazionali per il mese di giugno e l’appello nazionale “per più Europa\, un’altra Europa” \n  \n– sabato 6 settembre  consueto annuale “sentiero delle memoria” – itinerario fuori porta sui luoghi significativi della Resistenza e della Liberazione che avverrà a Dongo – (vedi volantino allegato)- vi invitiamo a prenotarvi per tempo considerate le probabili ferie di agosto!  \n  \n– anche quest’anno il  progetto  presentato in Regione Lombardia dall’ IC Allende in collaborazione con ANPI ” Noi testimoni della paura e del coraggio durante la Resistenza a Paderno Dugnano: in viaggio a Fossoli e a Carpi” ha vinto un premio\, appena ci saranno sviluppi ve ne daremo informativa \n  \n– ricordiamo la “campagna per il 5X1000 all’ANPI ” \nDestinare il 5 per mille della dichiarazione dei redditi all’Associazione Nazionale Partigiani d’Italia è semplice: \nNel quadro Scelta per la destinazione del cinque per mille dell’Irpef dei modelli CU\, 730 e Unico/PF apponi la tua firma solo nel primo dei sette spazi previsti\, quello con la dicitura “Sostegno degli Enti del Terzo Settore iscritti nel Runts“ – Sotto la firma inserisci il Codice Fiscale dell’ANPI 00776550584 \n– Vi ricordiamo il link a cui far riferimento per il progetto storico culturale QRcode in itinere\, a breve verranno affissi ai luoghi preposti le rispettive targhe con riferimento alle relative schede informative che si collegano al nostro blog https://anpipadernodugnano.blogspot.com/?m=1 \n– è in itinere il progetto “Teatro della memoria” che è atto a mettere in scena il nostro libro “la paura e il coraggio”\, vi terremo informati sugli sviluppi – sono previsti incontri  scadenzati nel periodo scolastico sino ad aprile 2026 in cui è previsto il “debutto” \nNei limiti delle disponibilità garantiamo sempre la presenza presso la nostra sede dalle h.9/9.30 alle h. 10.30/11.00 di tutte le domeniche – se non hai ancora rinnovato la tessera puoi anche richiederla tramite IBAN ANPI: IT87R0335901600100000121462 – BANCA PROSSIMA – \nINTESTATO A ANPI PADERNO DUGNANO (poi ti spediamo la tessera) \nTenervi aggiornati sulla nostra pagina facebook!!!! \nFraterni saluti  \nANPI PADERNO DUGNANO \nRita Magnani
URL:https://quipadernodugnano.info/event/anpi-informa-26/
CATEGORIES:Evento
END:VEVENT
END:VCALENDAR