BEGIN:VCALENDAR
VERSION:2.0
PRODID:-//Qui Paderno Dugnano - ECPv6.15.15//NONSGML v1.0//EN
CALSCALE:GREGORIAN
METHOD:PUBLISH
X-ORIGINAL-URL:https://quipadernodugnano.info
X-WR-CALDESC:Eventi per Qui Paderno Dugnano
REFRESH-INTERVAL;VALUE=DURATION:PT1H
X-Robots-Tag:noindex
X-PUBLISHED-TTL:PT1H
BEGIN:VTIMEZONE
TZID:Europe/Rome
BEGIN:DAYLIGHT
TZOFFSETFROM:+0100
TZOFFSETTO:+0200
TZNAME:CEST
DTSTART:20140330T010000
END:DAYLIGHT
BEGIN:STANDARD
TZOFFSETFROM:+0200
TZOFFSETTO:+0100
TZNAME:CET
DTSTART:20141026T010000
END:STANDARD
BEGIN:DAYLIGHT
TZOFFSETFROM:+0100
TZOFFSETTO:+0200
TZNAME:CEST
DTSTART:20150329T010000
END:DAYLIGHT
BEGIN:STANDARD
TZOFFSETFROM:+0200
TZOFFSETTO:+0100
TZNAME:CET
DTSTART:20151025T010000
END:STANDARD
BEGIN:DAYLIGHT
TZOFFSETFROM:+0100
TZOFFSETTO:+0200
TZNAME:CEST
DTSTART:20160327T010000
END:DAYLIGHT
BEGIN:STANDARD
TZOFFSETFROM:+0200
TZOFFSETTO:+0100
TZNAME:CET
DTSTART:20161030T010000
END:STANDARD
END:VTIMEZONE
BEGIN:VEVENT
DTSTART;TZID=Europe/Rome:20151120T210000
DTEND;TZID=Europe/Rome:20151120T230000
DTSTAMP:20260419T220500
CREATED:20151114T112622Z
LAST-MODIFIED:20221220T174924Z
UID:508-1448053200-1448060400@quipadernodugnano.info
SUMMARY:Presentazione della graphic novel “1914. Io mi rifiuto!”
DESCRIPTION:Performace “1914. Io mi rifiuto!” \nVenerdì 20 novembre 2015 –  alle ore 21 –  presso la sala riunioni di Villa Sioli – Via San Bernardo 7 – Senago\, con al tavolo da disegno Paolo Cossi e alla chitarra Jean Caberlotto. \nPaolo Cossi presenterà e firmerà le copie della sua graphic novel “1914. Io mi rifiuto!”\, un racconto che\, dal pensiero pacifista di Friedrich \, porta a riflettere\, da nuove e diverse prospettive\,  sulla guerra e i suoi orrori.
URL:https://quipadernodugnano.info/event/presentazione-della-graphic-novel-1914-io-mi-rifiuto/
LOCATION:Biblioteca Comunale “Italo Calvino” di Senago\, Via Don Rocca\, 17/19\, Senago\, MI\, Italia
CATEGORIES:Libri
END:VEVENT
END:VCALENDAR